BEGIN:VCALENDAR
VERSION:2.0
PRODID:-//Teatro Pasolini - ECPv6.15.20//NONSGML v1.0//EN
CALSCALE:GREGORIAN
METHOD:PUBLISH
X-WR-CALNAME:Teatro Pasolini
X-ORIGINAL-URL:https://www.teatropasolini.it
X-WR-CALDESC:Eventi per Teatro Pasolini
REFRESH-INTERVAL;VALUE=DURATION:PT1H
X-Robots-Tag:noindex
X-PUBLISHED-TTL:PT1H
BEGIN:VTIMEZONE
TZID:Europe/Rome
BEGIN:DAYLIGHT
TZOFFSETFROM:+0100
TZOFFSETTO:+0200
TZNAME:CEST
DTSTART:20250330T010000
END:DAYLIGHT
BEGIN:STANDARD
TZOFFSETFROM:+0200
TZOFFSETTO:+0100
TZNAME:CET
DTSTART:20251026T010000
END:STANDARD
BEGIN:DAYLIGHT
TZOFFSETFROM:+0100
TZOFFSETTO:+0200
TZNAME:CEST
DTSTART:20260329T010000
END:DAYLIGHT
BEGIN:STANDARD
TZOFFSETFROM:+0200
TZOFFSETTO:+0100
TZNAME:CET
DTSTART:20261025T010000
END:STANDARD
BEGIN:DAYLIGHT
TZOFFSETFROM:+0100
TZOFFSETTO:+0200
TZNAME:CEST
DTSTART:20270328T010000
END:DAYLIGHT
BEGIN:STANDARD
TZOFFSETFROM:+0200
TZOFFSETTO:+0100
TZNAME:CET
DTSTART:20271031T010000
END:STANDARD
END:VTIMEZONE
BEGIN:VEVENT
DTSTART;TZID=Europe/Rome:20260107T170000
DTEND;TZID=Europe/Rome:20260529T220000
DTSTAMP:20260422T133903
CREATED:20250903T124206Z
LAST-MODIFIED:20251002T160751Z
UID:10000896-1767805200-1780092000@www.teatropasolini.it
SUMMARY:Nel mezzo dell'inferno
DESCRIPTION:nelle scuole o in altri spazi\ndisponibile su prenotazione da gennaio 2026 \ndai 12 ai 16 anni – scuola secondaria di I e II grado \ndrammaturgia Fabrizio Pallara e Roberta Ortolano\nregia Fabrizio Pallara\nvoci di Valerio Malorni (Virgilio\, Caronte)\, Lorenzo Gioielli (Ulisse\, Farinata degli Uberti\, Conte Ugolino) e Silvia Gallerano (Beatrice e Francesca)\nmusiche Økapi\nmodellazione e animazione 3D Massimo Racozzi\nprogettazione ambienti architettonici Sara Ferazzoli\nsviluppo applicazione e implementazione VR Alessandro Passoni\nco-produzione LAC-Lugano Arte e Cultura e CSS Teatro stabile di innovazione del FVG nell’ambito del progetto ‘D’ante Litteram — Dante Alighieri nostro contemporaneo’ riconosciuto e sostenuto dal Comitato nazionale per le Celebrazioni dei 700 anni dalla morte di Dante Aligheri del MiC — Ministero della Cultura \nPremio nazionale Franco Enriquez 2022 – XVIII^ edizione\n“per un teatro\, un’arte e una comunicazione di impegno sociale e civile” – Città di Sirolo (Ancona)\nal CSS Teatro stabile di innovazione del FVG e alla sua direzione artistica\nnella categoria Teatri e Luoghi di spettacolo Sez. Direzione artistica e programmazione \n\nspettacolo in VR – Realtà Virtuale con l’utilizzo di visori per singolo spettatore \nvisione consigliata dai 14 anni in su\n\n\nDante compone l’Inferno mentre è immerso nell’esperienza straniante e dolorosa dell’esilio\, lontano da casa e gravato dal sentimento dell’ingiustizia. Attraverso la scrittura inventa così la possibilità di essere autore e allo stesso tempo narratore e personaggio di un’esperienza di evoluzione e redenzione che varrà per se stesso ma anche per il resto dell’umanità. \nIl Dante protagonista di questo viaggio nel regno dell’oltretomba comprende che è la relazione con gli altri e le altre – nel segno della volontà divina – a sostenerlo e condurlo sulla via della salvezza e della felicità.\nIl contatto con gli spiriti e le presenze mostruose che incontra\, il profondo legame con il maestro Virgilio e infine l’antica fiamma d’amore che lo connette a Beatrice\, non più muto angelo da celebrare\, ma guida severa e autorevole fonte di coraggio.\nDi questo percorso l’Inferno rappresenta la parte più dura che mette il poeta\, e chi con lui si immedesima\, a contatto con fragilità profonde\, paure e inadeguatezze\, di fronte alla diversità data dal suo essere vivo tra i morti e dunque in potenza salvato. Dante stabilisce così la possibilità di creare un altro mondo\, speculare e connesso a quello reale\, nel quale l’io possa fare un’esperienza diretta di trasformazione. Questo mondo è la letteratura. \nAllo stesso modo in questo progetto teatrale ed esperienziale si è scelto l’uso della tecnologia della Realtà Virtuale Immersiva\, coniugata a una progettazione architettonica dello spazio e del suono in 3D\, al fine di porre il pubblico a contatto con la totalità di una dimensione fantastica\, che non vuole sostituirsi a quella reale\, ma restare a questa interconnessa\, rappresentando uno stimolo di ricerca e cambiamento. \nSi comincerà con un prologo: uno spazio di accoglienza e raccoglimento iniziale\, che metterà ciascuno di fronte al proprio io e alla domanda: Perché fare questo viaggio? Quali i desideri e le paure?\nIndossati i visori\, uno ad uno gli spettatori saranno accompagnati oltre il muro che separa l’aldiquà dall’aldilà e lasciati al loro viaggio. La prima parte del quale sarà uguale per tutti\, mentre la seconda condurrà casualmente gli spettatori in tre luoghi selezionati tra gli ambienti infernali per ricondurli poi nuovamente ad un comune finale. L’esperienza resta dunque replicabile e in sé stessa aperta\, perché attraverso il contatto con la morte contiene in sé tutte le possibilità della vita. \nFabrizio Pallara e Roberta Ortolano\n \nDalla motivazione nella Cat. Teatri e Luoghi di spettacolo Sez. Direzione artistica e programmazione del PREMIO NAZIONALE FRANCO ENRIQUEZ 2022-CITTA’ DI SIROLO XVIII^ edizione\n“Un particolare riconoscimento al CSS Teatro Stabile di Innovazione del FVG  e alla sua direzione artistica per aver saputo\, in questo periodo particolarmente difficile per il teatro e per lo spettacolo in genere\, programmare proposte di spettacolo innovative e lungimiranti in una prospettiva di crescita e innovazione della comunicazione teatrale. Un particolare plauso va al progetto dedicato a Dante “Nel mezzo dell’Inferno”\, progetto teatrale ed esperienziale dove si è scelto l’uso della tecnologia della Realtà Virtuale Immersiva\, coniugata a una progettazione architettonica dello spazio e del suono in 3D\, al fine di porre il pubblico a contatto con la totalità di una dimensione fantastica\, che non vuole sostituirsi a quella reale\, ma restare a questa interconnessa\, rappresentando uno stimolo di ricerca e cambiamento.” \nDurata: 35 minuti
URL:https://www.teatropasolini.it/evento/nel-mezzo-dellinferno-4/
CATEGORIES:Contatto TIG
ATTACH;FMTTYPE=image/jpeg:https://www.teatropasolini.it/wp-content/uploads/2024/09/TP-nel-mezzo-dellinferno.jpg
END:VEVENT
BEGIN:VEVENT
DTSTART;TZID=Europe/Rome:20260413T090000
DTEND;TZID=Europe/Rome:20260529T130000
DTSTAMP:20260422T133903
CREATED:20250903T133411Z
LAST-MODIFIED:20251002T160742Z
UID:10000899-1776070800-1780059600@www.teatropasolini.it
SUMMARY:Nelle tasche di Mìmi
DESCRIPTION:nei nidi dell’infanzia\, da 0 a 3 anni  \ndi e con Desy Gialuz\ncreazione scene e oggetti Elisa Iacuzzo\nmusica originale Michele Budai\nsguardo esterno Alessandro Maione\nuna produzione CSS Teatro stabile di innovazione del Friuli Venezia Giulia \nUn grande piumone bianco. Qualcosa si muove sotto. È Mìmi. In quel confine sospeso tra sonno e veglia\, Mìmi emerge lentamente. Inciampa in un risveglio…o entra in un sogno?\nDalle tasche del manto bianco affiorano piccole meraviglie: uno spazzolino\, uno specchio\, una goccia\, una nota. Compagni semplici di tutti i giorni\, ma oggi sembrano avere un sapore diverso. A volte divertono e sorprendono\, altre volte confondono.\nSuoni e parole si incastrano\, si girano\, si mescolano. Cadono e si rialzano come torri da costruire. Gli oggetti rispondono con timbri leggeri e vibrazioni sottili. Le forme lasciano tracce\, e i colori iniziano a farsi spazio.\nCostruiscono un universo fatto di dettagli\, di prime volte\, di cose che si possono fare… o non ancora. Mìmi sperimenta\, osserva\, tocca\, assaggia\, ascolta. Gioca.\nForse ricorda il giorno che è stato… o sogna quello che verrà. \nUn viaggio sensoriale\, dove materia\, immagini e suoni parlano al corpo prima ancora che alle parole.\nNelle tasche di Mìmi celebra la scoperta\, senza narrazione lineare né frasi da seguire\, lo spettacolo lascia spazio alla percezione\, al tempo lento e alla relazione spontanea.\nPerché la scoperta del mondo comincia così: da ciò che è vicino. Dalle mani\, dagli occhi\, dal sentire. E il gioco è il primo modo per abitarlo.
URL:https://www.teatropasolini.it/evento/nelle-tasche-di-mimi/
CATEGORIES:Contatto TIG
ATTACH;FMTTYPE=image/jpeg:https://www.teatropasolini.it/wp-content/uploads/2025/09/CSS_DesyGialuz_262_AblD.jpg
END:VEVENT
BEGIN:VEVENT
DTSTART;TZID=Europe/Rome:20260424T200000
DTEND;TZID=Europe/Rome:20260424T230000
DTSTAMP:20260422T133903
CREATED:20260326T135637Z
LAST-MODIFIED:20260414T071543Z
UID:10001016-1777060800-1777071600@www.teatropasolini.it
SUMMARY:NORIMBERGA
DESCRIPTION:venerdì 24\, sabato 25 e domenica 26 ore 20\nINGRESSO: Intero 7\,00 euro Ridotto 5\,00 \nNORIMBERGA\nNuremberg\nUSA\, 2025\, 148\ndi James Vanderbilt\ncon Russell Crowe\, Rami Malek\, Michael Shannon \nAll’indomani della Seconda guerra mondiale\, mentre il mondo è ancora sconvolto dagli orrori dell’Olocausto\, al tenente colonnello Douglas Kelley (il premio Oscar Rami Malek)\, psichiatra dell’esercito americano\, viene affidato un incarico senza precedenti: valutare la sanità mentale di Hermann Göring (il premio Oscar Russell Crowe)\, il famigerato ex braccio destro di Hitler\, e di altri alti gerarchi nazisti.\nAllo stesso tempo\, gli Alleati — guidati dal giudice Robert H. Jackson (Michael Shannon)\, affrontano l’impresa titanica di istituire un tribunale internazionale\, per far sì che il regime nazista risponda dei propri crimini di fronte alla storia. Nel silenzio delle celle\, Kelley ingaggia un intenso duello psicologico con Göring\, uomo carismatico e manipolatore. Da quello scontro emerge una domanda che ancora oggi tormenta la coscienza del mondo: stavano eseguendo ordini\, erano pazzi… o semplicemente malvagi?\nSul palcoscenico della storia si apre così il processo di Norimberga\, un evento che ha cambiato per sempre la storia e l’umanità.\nIl film è tratto dal saggio “Il nazista e lo psichiatra” di Jack El-Hai (Rizzoli). \n 
URL:https://www.teatropasolini.it/evento/norimberga-3/
CATEGORIES:Cinema
ATTACH;FMTTYPE=image/webp:https://www.teatropasolini.it/wp-content/uploads/2026/03/norimberga-01.webp
END:VEVENT
BEGIN:VEVENT
DTSTART;TZID=Europe/Rome:20260425T200000
DTEND;TZID=Europe/Rome:20260425T230000
DTSTAMP:20260422T133903
CREATED:20260326T135622Z
LAST-MODIFIED:20260326T135622Z
UID:10001015-1777147200-1777158000@www.teatropasolini.it
SUMMARY:NORIMBERGA
DESCRIPTION:venerdì 24\, sabato 25 e domenica 26 ore 20\nINGRESSO: Intero 7\,00 euro Ridotto 5\,00 \nNORIMBERGA\nNuremberg\nUSA\, 2025\, 148\ndi James Vanderbilt\ncon Russell Crowe\, Rami Malek\, Michael Shannon \nAll’indomani della Seconda guerra mondiale\, mentre il mondo è ancora sconvolto dagli orrori dell’Olocausto\, al tenente colonnello Douglas Kelley (il premio Oscar Rami Malek)\, psichiatra dell’esercito americano\, viene affidato un incarico senza precedenti: valutare la sanità mentale di Hermann Göring (il premio Oscar Russell Crowe)\, il famigerato ex braccio destro di Hitler\, e di altri alti gerarchi nazisti.\nAllo stesso tempo\, gli Alleati — guidati dal giudice Robert H. Jackson (Michael Shannon)\, affrontano l’impresa titanica di istituire un tribunale internazionale\, per far sì che il regime nazista risponda dei propri crimini di fronte alla storia. Nel silenzio delle celle\, Kelley ingaggia un intenso duello psicologico con Göring\, uomo carismatico e manipolatore. Da quello scontro emerge una domanda che ancora oggi tormenta la coscienza del mondo: stavano eseguendo ordini\, erano pazzi… o semplicemente malvagi?\nSul palcoscenico della storia si apre così il processo di Norimberga\, un evento che ha cambiato per sempre la storia e l’umanità.\nIl film è tratto dal saggio “Il nazista e lo psichiatra” di Jack El-Hai (Rizzoli). \n 
URL:https://www.teatropasolini.it/evento/norimberga-2/
CATEGORIES:Cinema
ATTACH;FMTTYPE=image/webp:https://www.teatropasolini.it/wp-content/uploads/2026/03/norimberga-01.webp
END:VEVENT
BEGIN:VEVENT
DTSTART;TZID=Europe/Rome:20260426T200000
DTEND;TZID=Europe/Rome:20260426T230000
DTSTAMP:20260422T133903
CREATED:20260326T135550Z
LAST-MODIFIED:20260326T135550Z
UID:10001014-1777233600-1777244400@www.teatropasolini.it
SUMMARY:NORIMBERGA
DESCRIPTION:venerdì 24\, sabato 25 e domenica 26 ore 20\nINGRESSO: Intero 7\,00 euro Ridotto 5\,00 \nNORIMBERGA\nNuremberg\nUSA\, 2025\, 148\ndi James Vanderbilt\ncon Russell Crowe\, Rami Malek\, Michael Shannon \nAll’indomani della Seconda guerra mondiale\, mentre il mondo è ancora sconvolto dagli orrori dell’Olocausto\, al tenente colonnello Douglas Kelley (il premio Oscar Rami Malek)\, psichiatra dell’esercito americano\, viene affidato un incarico senza precedenti: valutare la sanità mentale di Hermann Göring (il premio Oscar Russell Crowe)\, il famigerato ex braccio destro di Hitler\, e di altri alti gerarchi nazisti.\nAllo stesso tempo\, gli Alleati — guidati dal giudice Robert H. Jackson (Michael Shannon)\, affrontano l’impresa titanica di istituire un tribunale internazionale\, per far sì che il regime nazista risponda dei propri crimini di fronte alla storia. Nel silenzio delle celle\, Kelley ingaggia un intenso duello psicologico con Göring\, uomo carismatico e manipolatore. Da quello scontro emerge una domanda che ancora oggi tormenta la coscienza del mondo: stavano eseguendo ordini\, erano pazzi… o semplicemente malvagi?\nSul palcoscenico della storia si apre così il processo di Norimberga\, un evento che ha cambiato per sempre la storia e l’umanità.\nIl film è tratto dal saggio “Il nazista e lo psichiatra” di Jack El-Hai (Rizzoli). \n 
URL:https://www.teatropasolini.it/evento/norimberga/
CATEGORIES:Cinema
ATTACH;FMTTYPE=image/webp:https://www.teatropasolini.it/wp-content/uploads/2026/03/norimberga-01.webp
END:VEVENT
BEGIN:VEVENT
DTSTART;TZID=Europe/Rome:20260501T183000
DTEND;TZID=Europe/Rome:20260501T203000
DTSTAMP:20260422T133903
CREATED:20260420T125339Z
LAST-MODIFIED:20260420T125339Z
UID:10001019-1777660200-1777667400@www.teatropasolini.it
SUMMARY:UN ANNO DI SCUOLA
DESCRIPTION:venerdì 1 e sabato 2 ore 18.30 e 20.30\ndomenica 3 ore 18.30\nINGRESSO: Intero 7\,00 euro Ridotto 5\,00 \nUN ANNO DI SCUOLA\nItalia\, Francia\, 2025\, 102′\ndi Laura Samani\ncon Stella Wendick\, Giacomo Covi\, Pietro Giustolisi\, Samuel Volturno \nSettembre 2007\, Trieste. Fred\, diciottenne svedese esuberante e coraggiosa\, arriva in città per frequentare l’ultimo anno di un Istituto Tecnico. Si ritrova ad essere l’unica ragazza in una classe di soli maschi e catalizza l’attenzione di tutti\, in particolare quella di tre amici: Antero\, affascinante e riservato; Pasini\, seduttore istrionico; Mitis\, bonaccione protettivo. I tre si appartengono da quando hanno memoria. L’arrivo di Fred sconvolge la loro omogeneità\, mettendo a dura prova la loro amicizia. Mentre ognuno di loro la desidera segretamente per sé\, Fred vuole essere ammessa nel gruppo\, ma le viene chiesto continuamente di sacrificare qualcosa di sé per diventare una di loro. \nLiberamente tratto dal racconto “Un anno di scuola” (1929) di Giani Stuparich. Presentato in anteprima alla Mostra del Cinema di Venezia\, Premio Orizzonti per la miglior interpretazione maschile a Giacomo Covi. Opera seconda della regista del pluripremiato “Piccolo Corpo”\, il film è stato prodotto dalla casa di produzione cinematografica friulana Nefertiti Film con Rai Cinema\, con il sostegno della Friuli Venezia Giulia Film Commission e del Fondo per l’Audiovisivo FVG.
URL:https://www.teatropasolini.it/evento/un-anno-di-scuola-3/
CATEGORIES:Cinema
ATTACH;FMTTYPE=image/jpeg:https://www.teatropasolini.it/wp-content/uploads/2026/04/imgi_19_luckyred_unannodiscuola_1.jpg
END:VEVENT
BEGIN:VEVENT
DTSTART;TZID=Europe/Rome:20260502T183000
DTEND;TZID=Europe/Rome:20260502T203000
DTSTAMP:20260422T133903
CREATED:20260420T125304Z
LAST-MODIFIED:20260420T125304Z
UID:10001018-1777746600-1777753800@www.teatropasolini.it
SUMMARY:UN ANNO DI SCUOLA
DESCRIPTION:venerdì 1 e sabato 2 ore 18.30 e 20.30\ndomenica 3 ore 18.30\nINGRESSO: Intero 7\,00 euro Ridotto 5\,00 \nUN ANNO DI SCUOLA\nItalia\, Francia\, 2025\, 102′\ndi Laura Samani\ncon Stella Wendick\, Giacomo Covi\, Pietro Giustolisi\, Samuel Volturno \nSettembre 2007\, Trieste. Fred\, diciottenne svedese esuberante e coraggiosa\, arriva in città per frequentare l’ultimo anno di un Istituto Tecnico. Si ritrova ad essere l’unica ragazza in una classe di soli maschi e catalizza l’attenzione di tutti\, in particolare quella di tre amici: Antero\, affascinante e riservato; Pasini\, seduttore istrionico; Mitis\, bonaccione protettivo. I tre si appartengono da quando hanno memoria. L’arrivo di Fred sconvolge la loro omogeneità\, mettendo a dura prova la loro amicizia. Mentre ognuno di loro la desidera segretamente per sé\, Fred vuole essere ammessa nel gruppo\, ma le viene chiesto continuamente di sacrificare qualcosa di sé per diventare una di loro. \nLiberamente tratto dal racconto “Un anno di scuola” (1929) di Giani Stuparich. Presentato in anteprima alla Mostra del Cinema di Venezia\, Premio Orizzonti per la miglior interpretazione maschile a Giacomo Covi. Opera seconda della regista del pluripremiato “Piccolo Corpo”\, il film è stato prodotto dalla casa di produzione cinematografica friulana Nefertiti Film con Rai Cinema\, con il sostegno della Friuli Venezia Giulia Film Commission e del Fondo per l’Audiovisivo FVG.
URL:https://www.teatropasolini.it/evento/un-anno-di-scuola-2/
CATEGORIES:Cinema
ATTACH;FMTTYPE=image/jpeg:https://www.teatropasolini.it/wp-content/uploads/2026/04/imgi_19_luckyred_unannodiscuola_1.jpg
END:VEVENT
BEGIN:VEVENT
DTSTART;TZID=Europe/Rome:20260503T183000
DTEND;TZID=Europe/Rome:20260503T203000
DTSTAMP:20260422T133903
CREATED:20260420T125230Z
LAST-MODIFIED:20260420T125230Z
UID:10001017-1777833000-1777840200@www.teatropasolini.it
SUMMARY:UN ANNO DI SCUOLA
DESCRIPTION:venerdì 1 e sabato 2 ore 18.30 e 20.30\ndomenica 3 ore 18.30\nINGRESSO: Intero 7\,00 euro Ridotto 5\,00 \nUN ANNO DI SCUOLA\nItalia\, Francia\, 2025\, 102′\ndi Laura Samani\ncon Stella Wendick\, Giacomo Covi\, Pietro Giustolisi\, Samuel Volturno \nSettembre 2007\, Trieste. Fred\, diciottenne svedese esuberante e coraggiosa\, arriva in città per frequentare l’ultimo anno di un Istituto Tecnico. Si ritrova ad essere l’unica ragazza in una classe di soli maschi e catalizza l’attenzione di tutti\, in particolare quella di tre amici: Antero\, affascinante e riservato; Pasini\, seduttore istrionico; Mitis\, bonaccione protettivo. I tre si appartengono da quando hanno memoria. L’arrivo di Fred sconvolge la loro omogeneità\, mettendo a dura prova la loro amicizia. Mentre ognuno di loro la desidera segretamente per sé\, Fred vuole essere ammessa nel gruppo\, ma le viene chiesto continuamente di sacrificare qualcosa di sé per diventare una di loro. \nLiberamente tratto dal racconto “Un anno di scuola” (1929) di Giani Stuparich. Presentato in anteprima alla Mostra del Cinema di Venezia\, Premio Orizzonti per la miglior interpretazione maschile a Giacomo Covi. Opera seconda della regista del pluripremiato “Piccolo Corpo”\, il film è stato prodotto dalla casa di produzione cinematografica friulana Nefertiti Film con Rai Cinema\, con il sostegno della Friuli Venezia Giulia Film Commission e del Fondo per l’Audiovisivo FVG.
URL:https://www.teatropasolini.it/evento/un-anno-di-scuola/
CATEGORIES:Cinema
ATTACH;FMTTYPE=image/jpeg:https://www.teatropasolini.it/wp-content/uploads/2026/04/imgi_19_luckyred_unannodiscuola_1.jpg
END:VEVENT
BEGIN:VEVENT
DTSTART;TZID=Europe/Rome:20260504T090000
DTEND;TZID=Europe/Rome:20260522T130000
DTSTAMP:20260422T133903
CREATED:20250903T132123Z
LAST-MODIFIED:20251002T160739Z
UID:10000898-1777885200-1779454800@www.teatropasolini.it
SUMMARY:La bella addormentata nel bosco
DESCRIPTION:nelle scuole o in altri spazi \ndai 3 ai 5 anni – scuola dell’infanzia \n\n\n\n\n\nregia\, adattamento e scene Fabrizio Pallara\n\n\ncon Nicoletta Oscuro\n\n\n\nuna produzione CSS Teatro stabile di innovazione del FVG \nnarrazione e teatro di figura\ndurata 45′ \nDentro alle maglie della nota fiaba si dipana una storia parallela\, un’altra versione.\nÈ lo sguardo della settima fata che con il suo maleficio racconta un punto di vista diverso.\nUn personaggio duro\, ipersensibile\, ma anche buffo prende dunque la parola.\nLa settima fata\, narratrice e testimone della vicenda\, come una sarta laboriosa\, allaccia i fili dei ricordi e cuce una mappa di sentimenti belli e brutti\, paurosi e necessari\, capaci\, insieme\, di rivelare tutta la complessità che ognuno deve affrontare per vivere.\nCadere\, rialzarsi e continuare a correre. Una ferita si aprirà\, una crosta la ricoprirà\, una cicatrice sarà la sua memoria sulla pelle.\nSenza cattivi\, senza inciampi e sbagli\, non ci sarebbe questa storia\, e non ci sarebbe la vita con le sue meraviglie.
URL:https://www.teatropasolini.it/evento/la-bella-addormentata-nel-bosco/
CATEGORIES:Contatto TIG
ATTACH;FMTTYPE=image/jpeg:https://www.teatropasolini.it/wp-content/uploads/2025/09/CSS-FABRIZIOPALLARA-LABELLAADDORMENTATA-socials-1.jpg
END:VEVENT
END:VCALENDAR